BEGIN:VCALENDAR
VERSION:2.0
PRODID:-//hacksw/handcal//NONSGML v1.0//EN
BEGIN:VEVENT
SUMMARY:Challenge KORRIGAN Rimfire 22lr
UID:c8ea70e9-5294-4d9b-88d4-3883454c7641
DTSTART:20260516T060000Z
DTEND:20260516T160000Z
LOCATION:Localisation   
CATEGORIES:Sportif
STATUS:
DESCRIPTION:<p class="Standard" style="text-align:justify;"><span
 style="font-size:12pt;"><span><span style="font-family:'Liberation
 Serif', serif;"><span class="StrongEmphasis"
 style="font-weight:bold;"><span style="font-family:'Times New Roman',
 serif;">Les competiteurs de tir au fusil de precision participent a
 l’epreuve en equipe de deux, un tireur tire pendant que l’autre
 observe et corrige le tir.</span></span></span></span></span></p>
 
 <p
 class="Standard" style="text-align:justify;"><span
 style="font-size:12pt;"><span><span style="font-family:'Liberation
 Serif', serif;"><span style="font-family:'Times New Roman',
 serif;">Chaque membre de l’equipe peut choisir de tirer avec un ou
 deux fusils.</span></span></span></span></p>
 
 <p class="Standard"
 style="text-align:justify;"><span style="font-size:12pt;"><span><span
 style="font-family:'Liberation Serif', serif;"><span
 style="font-family:'Times New Roman', serif;">Le spotter <span
 class="StrongEmphasis" style="font-weight:bold;">ne peut en aucun cas
 manipuler</span> l’arme, les munitions ou tout equipement
 appartenant au tireur durant la sequence de
 tir.</span></span></span></span></p>
 
 <p class="Standard"
 style="text-align:justify;"><span style="font-size:16pt;"><span><span
 style="font-family:'Liberation Serif', serif;"><span
 class="StrongEmphasis" style="font-weight:bold;"><span
 style="font-size:12pt;"><span><span style="font-family:'Times New
 Roman', serif;"><span style="font-weight:normal;">Armes autorisees
 :</span></span></span></span></span></span></span></span></p>
 
 <p
 class="Standard" style="text-align:justify;"><span
 style="font-size:12pt;"><span><span><span
 style="font-family:'Liberation Serif', serif;"><span
 style="font-family:'Times New Roman', serif;">Carabines a repetition
 manuelle, de <span class="StrongEmphasis"
 style="font-weight:bold;">calibre .22 Long Rifle</span>, equipees
 d’une lunette.</span></span></span></span></span></p>
 
 <p
 class="Standard" style="text-align:justify;"><span
 style="font-size:12pt;"><span><span><span
 style="font-family:'Liberation Serif', serif;"><span
 class="StrongEmphasis" style="font-weight:bold;"><span
 style="font-family:'Times New Roman', serif;">Aucune limite de
 poids</span></span><span style="font-family:'Times New Roman',
 serif;"> n’est imposee.</span></span></span></span></span></p>
 
 <p
 class="Standard" style="text-align:justify;"><u><strong><span
 style="font-size:12pt;"><span><span><span
 style="font-family:'Liberation Serif', serif;"><span
 style="font-family:'Times New Roman', serif;">Deroulement de la
 competition
 :</span></span></span></span></span></strong></u></p>
 
 <ul>
 	<li
 class="Textbody" style="text-align:justify;"><span
 style="font-size:12pt;"><span><span><span
 style="font-family:'Liberation Serif', serif;"><span
 class="StrongEmphasis" style="font-weight:bold;"><span
 style="font-family:'Times New Roman', serif;">1 tir sur un gong Cold
 -bord rond a 195
 m</span></span></span></span></span></span></li>
 	<li
 class="Textbody" style="text-align:justify;"><span
 style="font-size:12pt;"><span><span><span
 style="font-family:'Liberation Serif', serif;"><span
 class="StrongEmphasis" style="font-weight:bold;"><span
 style="font-family:'Times New Roman', serif;">3 tirs sur le
 1<sup>er</sup> gong de 20 x 20 a 215
 m</span></span></span></span></span></span></li>
 	<li
 class="Textbody" style="text-align:justify;"><span
 style="font-size:12pt;"><span><span><span
 style="font-family:'Liberation Serif', serif;"><span
 style="font-family:'Times New Roman', serif;">3 tirs sur le 2ᵉ gong
 de 20 x 20 a <span class="StrongEmphasis"
 style="font-weight:bold;">245
 m</span></span></span></span></span></span></li>
 	<li
 class="Textbody" style="text-align:justify;"><span
 style="font-size:12pt;"><span><span><span
 style="font-family:'Liberation Serif', serif;"><span
 style="font-family:'Times New Roman', serif;">3 tirs sur le 3ᵉ gong
 de 30 x 30 a <span class="StrongEmphasis"
 style="font-weight:bold;">315
 m</span></span></span></span></span></span></li>
 	<li
 class="Textbody" style="text-align:justify;"><span
 style="font-size:12pt;"><span><span><span
 style="font-family:'Liberation Serif', serif;"><span
 style="font-family:'Times New Roman', serif;">3 tirs sur le 4ᵉ gong
 de 30 x 30 a <span class="StrongEmphasis"
 style="font-weight:bold;">345
 m</span></span></span></span></span></span></li>
 	<li
 class="Textbody" style="text-align:justify;"><span
 style="font-size:12pt;"><span><span><span
 style="font-family:'Liberation Serif', serif;"><span
 style="font-family:'Times New Roman', serif;">4 tirs sur le 5ᵉ gong
 de 40 x 40 a <span class="StrongEmphasis"
 style="font-weight:bold;">405
 m</span></span></span></span></span></span></li>
 	<li
 class="Textbody" style="text-align:justify;"><span
 style="font-size:12pt;"><span><span><span
 style="font-family:'Liberation Serif', serif;"><span
 style="font-family:'Times New Roman', serif;">4 tirs sur le 6ᵉ gong
 de 40 x 40 a <span class="StrongEmphasis"
 style="font-weight:bold;">445
 m</span></span></span></span></span></span></li>
 	<li
 class="Textbody" style="text-align:justify;"><span
 style="font-size:12pt;"><span><span><span
 style="font-family:'Liberation Serif', serif;"><span
 style="font-family:'Times New Roman', serif;">5 tirs sur le 7ᵉ gong
 de 50 x 50 a <span class="StrongEmphasis"
 style="font-weight:bold;">500
 m</span></span></span></span></span></span></li>
 	<li
 class="Textbody" style="text-align:justify;"><span
 style="font-size:12pt;"><span><span><span
 style="font-family:'Liberation Serif', serif;"><span
 style="font-family:'Times New Roman', serif;">5 tirs sur le 8ᵉ gong
 de 50 x 50 a <span class="StrongEmphasis"
 style="font-weight:bold;">515
 m</span></span></span></span></span></span></li>
 </ul>
URL;VALUE=URI:https://www.csc3tir.com/evenements/2026/05/16/challenge-korrigan-rimfire-22lr-2443682
END:VEVENT
END:VCALENDAR
