BEGIN:VCALENDAR
VERSION:2.0
PRODID:-//hacksw/handcal//NONSGML v1.0//EN
BEGIN:VEVENT
SUMMARY:Challenge club tous calibres
UID:221f822d-1168-49eb-88c8-19121c2b7b5d
DTSTART:20260530T060000Z
DTEND:20260530T160000Z
LOCATION:Localisation   
CATEGORIES:Sportif
STATUS:
DESCRIPTION:<p style="text-align:justify;"><span
 style="font-size:11pt;"><span><span style="font-family:Calibri,
 sans-serif;"><span style="font-size:12pt;"><span
 style="font-family:'Times New Roman', serif;">La section tir du Club
 Sportif et Culturel du 3° RIMa de Vannes (CSC3), organise son 8eme
 challenge club le samedi 30 mai 2026 au stand exterieur CT01 du camp
 de Meucon.</span></span></span></span></span></p>
 
 <p><span
 style="font-size:11pt;"><span><span style="font-family:Calibri,
 sans-serif;"><b><u><span style="font-size:12pt;"><span
 style="font-family:'Times New Roman', serif;">Le challenge portera
 sur les distances et les categories d’armes
 suivantes</span></span></u></b><span style="font-size:12pt;"><span
 style="font-family:'Times New Roman', serif;"> :
 </span></span></span></span></span></p>
 
 <p><span
 style="font-size:11pt;"><span><span style="font-family:Calibri,
 sans-serif;"><span style="font-size:12pt;"><span
 style="font-family:'Times New Roman', serif;">Les heures indiquees
 sont les heures de debut de
 match.</span></span></span></span></span></p>
 
 <p><span
 style="font-size:11pt;"><span><span style="font-family:Calibri,
 sans-serif;"><u><span style="font-size:12pt;"><span
 style="font-family:'Times New Roman', serif;">Challenge 1 : 25 m
 revolver
 :</span></span></u></span></span></span></p>
 
 <ul>
 	<li><span
 style="font-size:11pt;"><span><span style="font-family:Calibri,
 sans-serif;"><span style="font-size:12pt;"><span
 style="font-family:'Times New Roman', serif;"> Cible C50 : <b>Armes
 de poing tous calibres (point rouge
 autorise)</b></span></span></span></span></span></li>
 </ul>
 
 <p><span
 style="font-size:11pt;"><span><span style="font-family:Calibri,
 sans-serif;"><u><span style="font-size:12pt;"><span
 style="font-family:'Times New Roman', serif;">Challenge 2 : 25 m
 pistolet
 :</span></span></u></span></span></span></p>
 
 <ul>
 	<li><span
 style="font-size:11pt;"><span><span style="font-family:Calibri,
 sans-serif;"><span style="font-size:12pt;"><span
 style="font-family:'Times New Roman', serif;"> Cible C50 : <b>Armes
 de poing tous calibres (point rouge
 autorise)</b></span></span></span></span></span></li>
 </ul>
 
 <p><span
 style="font-size:11pt;"><span><span style="font-family:Calibri,
 sans-serif;"><u><span style="font-size:12pt;"><span
 style="font-family:'Times New Roman', serif;">Challenge 3 : a 100
 m</span></span></u><span style="font-size:12pt;"><span
 style="font-family:'Times New Roman',
 serif;"> :</span></span></span></span></span></p>
 
 <ul>
 	<li><span
 style="font-size:11pt;"><span><span style="font-family:Calibri,
 sans-serif;"><span style="font-size:12pt;"><span
 style="font-family:'Times New Roman', serif;">Cible C50 :
 <b>Carabine 22 LR visee
 ouverte</b></span></span></span></span></span></li>
 </ul>
 
 <p><span
 style="font-size:11pt;"><span><span style="font-family:Calibri,
 sans-serif;"><u><span style="font-size:12pt;"><span
 style="font-family:'Times New Roman', serif;">Challenge 4 : a
 200 m :</span></span></u></span></span></span></p>
 
 <ul>
 	<li><span
 style="font-size:11pt;"><span><span style="font-family:Calibri,
 sans-serif;"><span style="font-size:12pt;"><span
 style="font-family:'Times New Roman', serif;">Cibles C200 :
 <b>Carabine 22 LR avec
 lunette</b></span></span></span></span></span></li>
 </ul>
 
 <p><span
 style="font-size:11pt;"><span><span style="font-family:Calibri,
 sans-serif;"><u><span style="font-size:12pt;"><span
 style="font-family:'Times New Roman', serif;">Challenge 5 : a 200
 m :</span></span></u></span></span></span></p>
 
 <ul>
 	<li><span
 style="font-size:11pt;"><span><span style="font-family:Calibri,
 sans-serif;"><span style="font-size:12pt;"><span
 style="font-family:'Times New Roman', serif;">Cible C200 : <b>Armes
 tous calibre sauf 22 LR visee ouverte sans lunette ni
 dioptre</b>.</span></span></span></span></span></li>
 </ul>
 
 <p><span
 style="font-size:11pt;"><span><span style="font-family:Calibri,
 sans-serif;"><u><span style="font-size:12pt;"><span
 style="font-family:'Times New Roman', serif;">Challenge 6 : Combine
 400/600
 m :</span></span></u></span></span></span></p>
 
 <ul>
 	<li><span
 style="font-size:11pt;"><span><span style="font-family:Calibri,
 sans-serif;"><span style="font-size:12pt;"><span
 style="font-family:'Times New Roman', serif;">400 m sur cible
 C200<b> :</b> <b>Armes tous calibres avec lunette sauf
 22lr</b></span></span></span></span></span></li>
 	<li><span
 style="font-size:11pt;"><span><span style="font-family:Calibri,
 sans-serif;"><span style="font-size:12pt;"><span
 style="font-family:'Times New Roman', serif;"> 600 m sur cible
 C200<b> :</b> <b>Armes tous calibres avec lunette sauf
 22lr</b></span></span></span></span></span></li>
 </ul>
 
 <p><span
 style="font-size:11pt;"><span><span style="font-family:Calibri,
 sans-serif;"><span style="font-size:12pt;"><span
 style="font-family:'Times New Roman', serif;">Le resultat du combine
 se fera sur le total des 20 meilleurs
 impacts.</span></span></span></span></span></p>
URL;VALUE=URI:https://www.csc3tir.com/evenements/2026/05/30/challenge-club-tous-calibres-2443703
END:VEVENT
END:VCALENDAR
